BEGIN:VCALENDAR
VERSION:2.0
PRODID:-//Kadampa Meditation Center Austin - ECPv6.15.20//NONSGML v1.0//EN
CALSCALE:GREGORIAN
METHOD:PUBLISH
X-WR-CALNAME:Kadampa Meditation Center Austin
X-ORIGINAL-URL:https://meditationinaustin.org
X-WR-CALDESC:Events for Kadampa Meditation Center Austin
REFRESH-INTERVAL;VALUE=DURATION:PT1H
X-Robots-Tag:noindex
X-PUBLISHED-TTL:PT1H
BEGIN:VTIMEZONE
TZID:America/Chicago
BEGIN:DAYLIGHT
TZOFFSETFROM:-0600
TZOFFSETTO:-0500
TZNAME:CDT
DTSTART:20250309T080000
END:DAYLIGHT
BEGIN:STANDARD
TZOFFSETFROM:-0500
TZOFFSETTO:-0600
TZNAME:CST
DTSTART:20251102T070000
END:STANDARD
BEGIN:DAYLIGHT
TZOFFSETFROM:-0600
TZOFFSETTO:-0500
TZNAME:CDT
DTSTART:20260308T080000
END:DAYLIGHT
BEGIN:STANDARD
TZOFFSETFROM:-0500
TZOFFSETTO:-0600
TZNAME:CST
DTSTART:20261101T070000
END:STANDARD
BEGIN:DAYLIGHT
TZOFFSETFROM:-0600
TZOFFSETTO:-0500
TZNAME:CDT
DTSTART:20270314T080000
END:DAYLIGHT
BEGIN:STANDARD
TZOFFSETFROM:-0500
TZOFFSETTO:-0600
TZNAME:CST
DTSTART:20271107T070000
END:STANDARD
END:VTIMEZONE
BEGIN:VEVENT
DTSTART;TZID=America/Chicago:20260421T183000
DTEND;TZID=America/Chicago:20260421T193000
DTSTAMP:20260421T091321
CREATED:20260318T012204Z
LAST-MODIFIED:20260318T012204Z
UID:10011248-1776796200-1776799800@meditationinaustin.org
SUMMARY:Medicine Buddha Prayers
DESCRIPTION:Medicine Buddha is a Buddha Doctor whose function is to release living beings from outer and inner sickness by bestowing blessings upon them. By relying on Medicine Buddha sincerely\, we can be cured of heavy physical and mental disease\, find release from the internal pain of the three poisons—attachment\, anger\, and ignorance—and receive protection from many other dangers and obstacles. \nEveryone Welcome! \nhttps://us02web.zoom.us/j/82634965936?pwd=GFhMaHbyFh19o4NnrPodMPBJtxGBZy.1#success
URL:https://meditationinaustin.org/event/medicine-buddha-prayers/
CATEGORIES:#1 Home Page,Chanted Prayers
ATTACH;FMTTYPE=image/png:https://meditationinaustin.org/wp-content/uploads/2025/07/Medicine-Buddha-2_transparent.png
ORGANIZER;CN="Kadampa Meditation Center Austin":MAILTO:info@meditationinaustin.org
LOCATION:
END:VEVENT
END:VCALENDAR